BEGIN:VCALENDAR
VERSION:2.0
PRODID:-//DPP Main Site - ECPv6.15.20//NONSGML v1.0//EN
CALSCALE:GREGORIAN
METHOD:PUBLISH
X-ORIGINAL-URL:https://denverpetpartners.org
X-WR-CALDESC:Events for DPP Main Site
REFRESH-INTERVAL;VALUE=DURATION:PT1H
X-Robots-Tag:noindex
X-PUBLISHED-TTL:PT1H
BEGIN:VTIMEZONE
TZID:America/Denver
BEGIN:DAYLIGHT
TZOFFSETFROM:-0700
TZOFFSETTO:-0600
TZNAME:MDT
DTSTART:20240310T090000
END:DAYLIGHT
BEGIN:STANDARD
TZOFFSETFROM:-0600
TZOFFSETTO:-0700
TZNAME:MST
DTSTART:20241103T080000
END:STANDARD
BEGIN:DAYLIGHT
TZOFFSETFROM:-0700
TZOFFSETTO:-0600
TZNAME:MDT
DTSTART:20250309T090000
END:DAYLIGHT
BEGIN:STANDARD
TZOFFSETFROM:-0600
TZOFFSETTO:-0700
TZNAME:MST
DTSTART:20251102T080000
END:STANDARD
BEGIN:DAYLIGHT
TZOFFSETFROM:-0700
TZOFFSETTO:-0600
TZNAME:MDT
DTSTART:20260308T090000
END:DAYLIGHT
BEGIN:STANDARD
TZOFFSETFROM:-0600
TZOFFSETTO:-0700
TZNAME:MST
DTSTART:20261101T080000
END:STANDARD
END:VTIMEZONE
BEGIN:VEVENT
DTSTART;TZID=America/Denver:20250712T100000
DTEND;TZID=America/Denver:20250712T120000
DTSTAMP:20260419T073144
CREATED:20250125T215612Z
LAST-MODIFIED:20250125T215614Z
UID:9794-1752314400-1752321600@denverpetpartners.org
SUMMARY:Volunteering with Your Pet training
DESCRIPTION:Please send an email to registrations@denverpetpartners.org if you are interested in attending this session.
URL:https://denverpetpartners.org/event/volunteering-with-your-pet-training-2/
LOCATION:Zoom Meeting\, CO
END:VEVENT
END:VCALENDAR