BEGIN:VCALENDAR
VERSION:2.0
PRODID:-//DPP Main Site - ECPv6.15.20//NONSGML v1.0//EN
CALSCALE:GREGORIAN
METHOD:PUBLISH
X-ORIGINAL-URL:https://denverpetpartners.org
X-WR-CALDESC:Events for DPP Main Site
REFRESH-INTERVAL;VALUE=DURATION:PT1H
X-Robots-Tag:noindex
X-PUBLISHED-TTL:PT1H
BEGIN:VTIMEZONE
TZID:America/Denver
BEGIN:DAYLIGHT
TZOFFSETFROM:-0700
TZOFFSETTO:-0600
TZNAME:MDT
DTSTART:20240310T090000
END:DAYLIGHT
BEGIN:STANDARD
TZOFFSETFROM:-0600
TZOFFSETTO:-0700
TZNAME:MST
DTSTART:20241103T080000
END:STANDARD
BEGIN:DAYLIGHT
TZOFFSETFROM:-0700
TZOFFSETTO:-0600
TZNAME:MDT
DTSTART:20250309T090000
END:DAYLIGHT
BEGIN:STANDARD
TZOFFSETFROM:-0600
TZOFFSETTO:-0700
TZNAME:MST
DTSTART:20251102T080000
END:STANDARD
BEGIN:DAYLIGHT
TZOFFSETFROM:-0700
TZOFFSETTO:-0600
TZNAME:MDT
DTSTART:20260308T090000
END:DAYLIGHT
BEGIN:STANDARD
TZOFFSETFROM:-0600
TZOFFSETTO:-0700
TZNAME:MST
DTSTART:20261101T080000
END:STANDARD
END:VTIMEZONE
BEGIN:VEVENT
DTSTART;TZID=America/Denver:20250926T091500
DTEND;TZID=America/Denver:20250926T100000
DTSTAMP:20260418T220807
CREATED:20250818T151844Z
LAST-MODIFIED:20250818T151845Z
UID:10461-1758878100-1758880800@denverpetpartners.org
SUMMARY:Loredo Middle School at Mission Viejo Library
DESCRIPTION:
URL:https://denverpetpartners.org/event/loredo-middle-school-at-mission-viejo-library/
LOCATION:Mission Viejo Library\, 15324 E Hampden Cir\, Aurora\, Colorado\, 80013\, United States
END:VEVENT
END:VCALENDAR