BEGIN:VCALENDAR
VERSION:2.0
PRODID:-//DPP Main Site - ECPv6.15.20//NONSGML v1.0//EN
CALSCALE:GREGORIAN
METHOD:PUBLISH
X-WR-CALNAME:DPP Main Site
X-ORIGINAL-URL:https://denverpetpartners.org
X-WR-CALDESC:Events for DPP Main Site
REFRESH-INTERVAL;VALUE=DURATION:PT1H
X-Robots-Tag:noindex
X-PUBLISHED-TTL:PT1H
BEGIN:VTIMEZONE
TZID:America/Denver
BEGIN:DAYLIGHT
TZOFFSETFROM:-0700
TZOFFSETTO:-0600
TZNAME:MDT
DTSTART:20240310T090000
END:DAYLIGHT
BEGIN:STANDARD
TZOFFSETFROM:-0600
TZOFFSETTO:-0700
TZNAME:MST
DTSTART:20241103T080000
END:STANDARD
BEGIN:DAYLIGHT
TZOFFSETFROM:-0700
TZOFFSETTO:-0600
TZNAME:MDT
DTSTART:20250309T090000
END:DAYLIGHT
BEGIN:STANDARD
TZOFFSETFROM:-0600
TZOFFSETTO:-0700
TZNAME:MST
DTSTART:20251102T080000
END:STANDARD
BEGIN:DAYLIGHT
TZOFFSETFROM:-0700
TZOFFSETTO:-0600
TZNAME:MDT
DTSTART:20260308T090000
END:DAYLIGHT
BEGIN:STANDARD
TZOFFSETFROM:-0600
TZOFFSETTO:-0700
TZNAME:MST
DTSTART:20261101T080000
END:STANDARD
END:VTIMEZONE
BEGIN:VEVENT
DTSTART;TZID=America/Denver:20250813T111500
DTEND;TZID=America/Denver:20250813T124500
DTSTAMP:20260419T074746
CREATED:20250724T122206Z
LAST-MODIFIED:20250724T122207Z
UID:10392-1755083700-1755089100@denverpetpartners.org
SUMMARY:Amazon Thornton DEN3 Facility
DESCRIPTION:
URL:https://denverpetpartners.org/event/amazon-thornton-den3-facility/
LOCATION:Amazon Distribution Center (Thornton)\, 14601 Grant Street\, Thornton\, Colorado\, 80023\, United States
END:VEVENT
BEGIN:VEVENT
DTSTART;TZID=America/Denver:20250817T083000
DTEND;TZID=America/Denver:20250817T170000
DTSTAMP:20260419T074746
CREATED:20250611T172407Z
LAST-MODIFIED:20250611T172408Z
UID:10249-1755419400-1755450000@denverpetpartners.org
SUMMARY:PP Team Evaluations
DESCRIPTION:
URL:https://denverpetpartners.org/event/pp-team-evaluations-9/
LOCATION:AdventHealth Castle Rock\, 2350 Meadows Blvd\, Castle Rock\, CO\, United States
END:VEVENT
BEGIN:VEVENT
DTSTART;TZID=America/Denver:20250819T110000
DTEND;TZID=America/Denver:20250819T130000
DTSTAMP:20260419T074746
CREATED:20250818T151319Z
LAST-MODIFIED:20250818T151320Z
UID:10451-1755601200-1755608400@denverpetpartners.org
SUMMARY:Environmental Protection Agency
DESCRIPTION:
URL:https://denverpetpartners.org/event/environmental-protection-agency-3/
LOCATION:Environmental Protection Agency\, 1595 Wynkoop Street\, Denver\, Colorado\, United States
END:VEVENT
BEGIN:VEVENT
DTSTART;TZID=America/Denver:20250823T090000
DTEND;TZID=America/Denver:20250823T120000
DTSTAMP:20260419T074746
CREATED:20241111T211807Z
LAST-MODIFIED:20250311T204511Z
UID:9515-1755939600-1755950400@denverpetpartners.org
SUMMARY:Board Meeting
DESCRIPTION:
URL:https://denverpetpartners.org/event/board-meeting-19/
LOCATION:City of Centennial Public Works Bldg\, 7272 S Eagle Street\, Centennial\, Colorado\, 80112\, United States
END:VEVENT
BEGIN:VEVENT
DTSTART;TZID=America/Denver:20250826T110000
DTEND;TZID=America/Denver:20250826T123000
DTSTAMP:20260419T074746
CREATED:20250724T122441Z
LAST-MODIFIED:20250724T122442Z
UID:10394-1756206000-1756211400@denverpetpartners.org
SUMMARY:YES! Communities
DESCRIPTION:
URL:https://denverpetpartners.org/event/yes-communities/
LOCATION:Yes Communities\, 5050 South Syracuse Street\, Denver\, Colorado\, United States
END:VEVENT
BEGIN:VEVENT
DTSTART;TZID=America/Denver:20250831T130000
DTEND;TZID=America/Denver:20250831T150000
DTSTAMP:20260419T074746
CREATED:20250731T130104Z
LAST-MODIFIED:20250731T130105Z
UID:10429-1756645200-1756652400@denverpetpartners.org
SUMMARY:Kendra Scott Fundraiser (Cherry Creek)
DESCRIPTION:
URL:https://denverpetpartners.org/event/kendra-scott-fundraiser-cherry-creek-3/
LOCATION:Kendra Scott (Cherry Creek)\, 175 N Fillmore Street\, Denver\, Colorado\, 80206\, United States
END:VEVENT
END:VCALENDAR