BEGIN:VCALENDAR
VERSION:2.0
PRODID:-//DPP Main Site - ECPv6.15.20//NONSGML v1.0//EN
CALSCALE:GREGORIAN
METHOD:PUBLISH
X-WR-CALNAME:DPP Main Site
X-ORIGINAL-URL:https://denverpetpartners.org
X-WR-CALDESC:Events for DPP Main Site
REFRESH-INTERVAL;VALUE=DURATION:PT1H
X-Robots-Tag:noindex
X-PUBLISHED-TTL:PT1H
BEGIN:VTIMEZONE
TZID:America/Denver
BEGIN:DAYLIGHT
TZOFFSETFROM:-0700
TZOFFSETTO:-0600
TZNAME:MDT
DTSTART:20240310T090000
END:DAYLIGHT
BEGIN:STANDARD
TZOFFSETFROM:-0600
TZOFFSETTO:-0700
TZNAME:MST
DTSTART:20241103T080000
END:STANDARD
BEGIN:DAYLIGHT
TZOFFSETFROM:-0700
TZOFFSETTO:-0600
TZNAME:MDT
DTSTART:20250309T090000
END:DAYLIGHT
BEGIN:STANDARD
TZOFFSETFROM:-0600
TZOFFSETTO:-0700
TZNAME:MST
DTSTART:20251102T080000
END:STANDARD
BEGIN:DAYLIGHT
TZOFFSETFROM:-0700
TZOFFSETTO:-0600
TZNAME:MDT
DTSTART:20260308T090000
END:DAYLIGHT
BEGIN:STANDARD
TZOFFSETFROM:-0600
TZOFFSETTO:-0700
TZNAME:MST
DTSTART:20261101T080000
END:STANDARD
END:VTIMEZONE
BEGIN:VEVENT
DTSTART;TZID=America/Denver:20250906T090000
DTEND;TZID=America/Denver:20250906T120000
DTSTAMP:20260418T140332
CREATED:20250109T165346Z
LAST-MODIFIED:20250902T190934Z
UID:9691-1757149200-1757160000@denverpetpartners.org
SUMMARY:Handling Skills for Safe Visits (canceled)
DESCRIPTION:THIS COURSE HAS BEEN CANCELED.
URL:https://denverpetpartners.org/event/handling-skills-for-safe-visits-2/
END:VEVENT
BEGIN:VEVENT
DTSTART;TZID=America/Denver:20250909T130000
DTEND;TZID=America/Denver:20250909T150000
DTSTAMP:20260418T140332
CREATED:20250611T172554Z
LAST-MODIFIED:20250611T172554Z
UID:10251-1757422800-1757430000@denverpetpartners.org
SUMMARY:NCSL - Nat'l Conference of State Legislatures
DESCRIPTION:
URL:https://denverpetpartners.org/event/ncsl-natl-conference-of-state-legislatures/
LOCATION:NCSL – National Conference of State Legislatures\, 7700 East 1st Street\, Denver\, Colorado\, 80230\, United States
END:VEVENT
BEGIN:VEVENT
DTSTART;TZID=America/Denver:20250912T100000
DTEND;TZID=America/Denver:20250912T130000
DTSTAMP:20260418T140332
CREATED:20250724T122555Z
LAST-MODIFIED:20250724T122601Z
UID:10398-1757671200-1757682000@denverpetpartners.org
SUMMARY:Boy Scouts Fishing Derby
DESCRIPTION:
URL:https://denverpetpartners.org/event/boy-scouts-fishing-derby-2/
LOCATION:Cherry Creek Reservoir\, CO\, United States
END:VEVENT
BEGIN:VEVENT
DTSTART;TZID=America/Denver:20250913T120000
DTEND;TZID=America/Denver:20250913T133000
DTSTAMP:20260418T140332
CREATED:20250818T151457Z
LAST-MODIFIED:20250818T151458Z
UID:10455-1757764800-1757770200@denverpetpartners.org
SUMMARY:Amazon Family Day event
DESCRIPTION:
URL:https://denverpetpartners.org/event/amazon-family-day-event/
LOCATION:Amazon Distribution Center (Thornton)\, 14601 Grant Street\, Thornton\, Colorado\, 80023\, United States
END:VEVENT
BEGIN:VEVENT
DTSTART;TZID=America/Denver:20250920T090000
DTEND;TZID=America/Denver:20250920T120000
DTSTAMP:20260418T140332
CREATED:20241111T211849Z
LAST-MODIFIED:20250311T204551Z
UID:9517-1758358800-1758369600@denverpetpartners.org
SUMMARY:Board Meeting
DESCRIPTION:
URL:https://denverpetpartners.org/event/board-meeting-20/
LOCATION:City of Centennial Public Works Bldg\, 7272 S Eagle Street\, Centennial\, Colorado\, 80112\, United States
END:VEVENT
BEGIN:VEVENT
DTSTART;TZID=America/Denver:20250922T120000
DTEND;TZID=America/Denver:20250922T140000
DTSTAMP:20260418T140332
CREATED:20250818T151604Z
LAST-MODIFIED:20250818T151604Z
UID:10457-1758542400-1758549600@denverpetpartners.org
SUMMARY:ACUMA Mortgage Conference
DESCRIPTION:
URL:https://denverpetpartners.org/event/acuma-mortgage-conference/
LOCATION:Colorado Convention Center\, 700 14th St\, Denver\, CO\, 80202\, United States
END:VEVENT
BEGIN:VEVENT
DTSTART;TZID=America/Denver:20250923T120000
DTEND;TZID=America/Denver:20250923T140000
DTSTAMP:20260418T140332
CREATED:20250818T151643Z
LAST-MODIFIED:20250818T151644Z
UID:10459-1758628800-1758636000@denverpetpartners.org
SUMMARY:ACUMA Mortgage Conference
DESCRIPTION:
URL:https://denverpetpartners.org/event/acuma-mortgage-conference-2/
LOCATION:Colorado Convention Center\, 700 14th St\, Denver\, CO\, 80202\, United States
END:VEVENT
BEGIN:VEVENT
DTSTART;TZID=America/Denver:20250926T091500
DTEND;TZID=America/Denver:20250926T100000
DTSTAMP:20260418T140332
CREATED:20250818T151844Z
LAST-MODIFIED:20250818T151845Z
UID:10461-1758878100-1758880800@denverpetpartners.org
SUMMARY:Loredo Middle School at Mission Viejo Library
DESCRIPTION:
URL:https://denverpetpartners.org/event/loredo-middle-school-at-mission-viejo-library/
LOCATION:Mission Viejo Library\, 15324 E Hampden Cir\, Aurora\, Colorado\, 80013\, United States
END:VEVENT
END:VCALENDAR